Workbook

Sheet instructions
A1: Introduction
A2: This workbook is designed to help users calculate radiation exposure after shielding, or determine the shielding thickness required.
A3: It includes
A4: (a) more than 20 radioisotopes,
A5: (b) 3 shielding materials ( lead, concrete, iron),
A6: (c) both 2π and 4π geometries,
A7: (d) 2 calculation types : (exposure after shielding or thickness of shielding required)
A8: (e) Calculations with or without build-up factors.
A9: Only the yellow cells are interactive. All other cells are protected to prevent accidental modification.
A11: Step 1 : select inputs
A12: click the yellow cells and select from the dropdown menu :
A13: Radioisotope
... A24: The calculator performs all computations automatically
A26: Example 1 : | B26: Example 2 :
A27: Calculate exposure after a given shielding thickness : | B27: Calculate shielding thickness required :
A28: Tc-99m initial exposure =200 μSv/hr, lead shielding thickness =0.05 cm, 2π geometry without build up factor | B28: F-18 exposure =250 μSv/hr, target exposure = 0.5 μSv/hr, 4π geometry with build up factor
A29: Calculated exposure = 49.99 μSv/hr | B29: Calculated concrete thickness required = 50.68 cm

Sheet Disclaimer
A1: Disclaimer
A2: The contents of this spreadsheet are provided solely for educational and reference purposes. They are intended to assist understanding and preliminary exploration only.
A3: These tools do not replace site-specific engineering design, institutional standard operating procedures, professional consultancy, or regulatory review and approval.
A4: As with all calculation tools, users should independently verify all results with appropriately qualified professionals and ensure compliance with applicable institutional protocols, standards, and regulatory requirements.
A5: Regulatory requirements, dose limits, and shielding standards vary by country and jurisdiction.Users are therefore responsible for consulting relevant national regulations and competent authorities before applying any results.
A6: The tools provided on this website are not intended to be used as the sole basis for decision-making.Users are solely responsible for verifying all inputs, assumptions, units, methodologies, and outputs prior to any practical application.
A7: The author assumes no responsibility or liability for decisions made based on the use of these tools, nor for any errors arising from incorrect data entry, inappropriate assumptions, misinterpretation, or misuse of the contents.

Sheet Sheet1
D1: Radiation shielding Calculator | F1: copyright © Sidney Yu | L1: radioisotope list | N1: shielding material | Q1: calculation type list
F2: please refer to Disclaimer page before downloading or using this worksheet | N2: List
B3: select | C3: radioisotope: | D3: Fluorine -18 | Q3: exposure after shielding
L4: Carbon-11 | N4: lead | Q4: thickness of shielding required
B5: select | C5: shielding material : | D5: concrete | L5: Cesium -137 | N5: concrete
L6: Cobalt -57 | N6: iron
B7: select | C7: geometry: | D7: 4π | F7: When build up factor is not considered , based on the shielding equation, | L7: Cobalt-60
F8: shielding geometry does not affect shielding calculation | L8: Copper -64
B9: select | C9: calculation type: | D9: thickness of shielding required | L9: Copper- 67 | N9: geometry list | Q9: =D9 -> thickness of shielding required | R9: =VLOOKUP(Q9,Q11:T12,2,FALSE) -> target exposure = | S9: =VLOOKUP(Q9,Q11:T12,3,FALSE) -> µSv/hr | T9: =VLOOKUP(Q9,Q11:T12,4,FALSE) -> thickness required= | U9: =VLOOKUP(Q9,Q11:U12,5,FALSE) -> cm
L10: Fluorine -18
B11: select | C11: calculation with /without build up factor : | F11: When lead is the shielding material AND the radioisotope energy | L11: Gallium -68 | N11: 2π | Q11: exposure after shielding | R11: shielding thickness = | S11: cm | T11: final exposure = | U11: µSv / hr
D12: with | F12: is less than 0.3 MeV, there is no build up factor | L12: Iodine -123 | N12: 4π | Q12: thickness of shielding required | R12: target exposure = | S12: =IF(R18=10,"µSv/hr","µSv/hr") -> µSv/hr | T12: thickness required= | U12: cm
L13: Iodine - 124
B14: =D3 -> Fluorine -18 | C14: =D5 -> concrete | E14: =D7 -> 4π | L14: Iodine-131
L15: Iridium -192 | N15: with/without build up factor
C16: calculate | D16: =D9 -> thickness of shielding required | E16: =D12 -> with | F16: build up factor | L16: Lutetium -177
L17: Nitrogen -13 | N17: with
B18: enter | C18: initial exposure = | D18: 250 | E18: =IF(D27=10,"µSv/hr","µSv/hr") -> µSv/hr | L18: Radium -223 | N18: without
L19: Rhenium-186
B20: enter | C20: =R9 -> target exposure = | D20: 0.5 | E20: =S9 -> µSv/hr | L20: Rhenium -188
L21: Rubidium -82
C22: =T9 -> thickness required= | D22: =Sheet7!M15 -> 50.683701 | E22: =U9 -> cm | F22: =$D$12 -> with | G22: build up factor | L22: Technetium-99m
L23: Zirconium-89
L25: Yttrium-90

Sheet Sheet2
E1: convert to codes
B4: radioisotope: | C4: =Sheet1!D3 -> Fluorine -18 | F4: shielding material code : | H4: =VLOOKUP(C6,F6:G8,2,FALSE) -> 2000 | J4: calculation type code : | K4: =VLOOKUP(C10,J6:K7,2,FALSE) -> 20
B6: shielding material : | C6: =Sheet1!D5 -> concrete | F6: lead | G6: 1000 | J6: exposure after shielding | K6: 10
F7: concrete | G7: 2000 | J7: thickness of shielding required | K7: 20
B8: geometry: | C8: =Sheet1!D7 -> 4π | F8: iron | G8: 3000
B10: calculation type: | C10: =Sheet1!D9 -> thickness of shielding required
F11: geomerty code : | H11: =VLOOKUP(C8,F13:G14,2,FALSE) -> 200 | J11: with/without build up factor code: | K11: =VLOOKUP(C13,J13:K14,2,FALSE) -> 1
B12: calculation with /without build up factor :
C13: =Sheet1!D12 -> with | F13: 2π | G13: 100 | J13: with | K13: 1
F14: 4π | G14: 200 | J14: without | K14: 2
F16: combined | G16: code = | H16: =H4+H11+K4+K11 -> 2221
D18: linear attenuation coefficent column | H18: =VLOOKUP(C6,D20:E22,2,FALSE) -> 12 | J18: build up table search addition code::
D20: lead | E20: 11 | J20: =C6&C8 -> concrete4π | K20: =VLOOKUP(J20,J22:K27,2,FALSE) -> 30
D21: concrete | E21: 12
D22: iron | E22: 13 | J22: lead2π | K22: 0
J23: lead4π | K23: 10
J24: concrete2π | K24: 20
J25: concrete4π | K25: 30
J26: iron2π | K26: 40
J27: iron4π | K27: 50

Sheet Sheet3
B1: search for linear attenuation coefficient and first colun in build up factor table
B3: radioisotope: | C3: =Sheet1!D3 -> Fluorine -18
B5: shielding material : | C5: =Sheet1!D5 -> concrete
B7: shielding material coulmn : | D7: =Sheet2!H18 -> 12
C10: µ = | D10: =VLOOKUP(C3,B19:N41,D7,FALSE) -> 0.2032 | E10: cm-1
B12: first column in build up factor table = | D12: =VLOOKUP(C3,B18:N41,8,TRUE) -> 6
C14: MFP = | D14: =1/D10 -> 4.9212598 | E14: cm | F14: MFP = mean free path
B18: 1 | C18: =B18+1 -> 2 | D18: =C18+1 -> 3 | E18: =D18+1 -> 4 | F18: =E18+1 -> 5 | G18: =F18+1 -> 6 | H18: =G18+1 -> 7 | I18: =H18+1 -> 8 | J18: =I18+1 -> 9 | ... N18: =M18+1 -> 13
B19: Name | C19: symbol | D19: half life | F19: primary decay mode | G19: Energy | H19: highest gamma | I19: corresponding | J19: half value layer (lead) | K19: specific gamma constant | L19: Linear attenuation coefficient Lead | M19: Linear attenuation coefficient concrete | N19: Linear attenuation coefficient Iron
G20: (MeV) | I20: column | J20: (cm) | K20: (mSv/hr)/MBq | L20: cm-1 | M20: cm-1 | N20: cm-1
B21: Actinium -225 | C21: Ac-225 | D21: 9.97 | E21: day | F21: alpha α | G21: α = 5.8 - 8.4 | J21: 0.00147 | K21: 5.172e-05 | L21: 472.6
B22: Carbon-11 | C22: C-11 | D22: 20.5 | E22: min | F22: positron β+ | G22: 0.511 | H22: 0.511 | I22: 6 | J22: 0.41 | K22: 0.000191 | L22: 1.69 | M22: 0.2032 | N22: 0.6625 | O22: 0.6625
B23: Cesium -137 | C23: Cs-137 | D23: 30.1 | E23: year | F23: gamma γ | G23: 0.661 | H23: 0.661 | I23: 7 | J23: 0.57 | K23: 0.000108 | L23: 1.27 | M23: 0.1811 | N23: 0.5787 | O23: 0.5787
B24: Cobalt -57 | C24: Co-57 | D24: 270.9 | E24: day | F24: gamma γ | G24: 0.122, 0.136 | H24: 0.136 | I24: 2 | J24: 0.018 | K24: 4.09e-05 | L24: 39.81 | M24: 0.3478 | N24: 1.878 | O24: 1.878
B25: Cobalt-60 | C25: Co-60 | D25: 5.27 | E25: year | F25: gamma γ | G25: 1.17, 1.33 | H25: 1.33 | I25: 9 | J25: 1.02 | K25: 0.0003697 | L25: 0.679 | M25: 0.1293 | N25: 0.4109 | O25: 0.4109
B26: Copper -64 | C26: Cu-64 | D26: 12.7 | E26: hour | F26: positron β+ Beta β- | G26: γ = 0.511 βmax = 0.578 βave = 0.190 | H26: 0.511 | I26: 6 | J26: 0.6 | K26: 3.51e-05 | L26: 1.614 | M26: 0.2032 | N26: 0.6625 | O26: 0.6625
B27: Copper- 67 | C27: Cu-67 | D27: 61.8 | E27: hr | F27: gamma γ beta β- | G27: γ = 0.185 β1 max = 0.377 ave = 0.121 β2 max = 0.408 ave = 0.154 β3 max = 0.562 ave= 0.189 | H27: 0.185 | I27: 3 | J27: < 0.1 | K27: 2.63e-05 | L27: 13.6929 | M27: 0.3037 | N27: 1.2347 | O27: 1.2347
B28: Fluorine -18 | C28: F-18 | D28: 1.8 | E28: hour | F28: positron β+ | G28: 0.511 | H28: 0.511 | I28: 6 | J28: 0.41 | K28: 0.000185 | L28: 1.695 | M28: 0.2032 | N28: 0.6625 | O28: 0.6625
B29: Gallium -68 | C29: Ga-68 | D29: 1.1 | E29: hour | F29: positron β+ | G29: 0.511 | H29: 0.511 | I29: 6 | J29: 0.43 | K29: 0.000176 | L29: 1.608 | M29: 0.2032 | N29: 0.6625 | O29: 0.6625
B30: Iodine -123 | C30: I-123 | D30: 13.1 | E30: hour | F30: gamma γ | G30: 0.159 | H30: 0.159 | I30: 3 | J30: 0.036 | K30: 7.48e-05 | L30: 19.42 | M30: 0.3246 | N30: 1.5469 | O30: 1.5469
B31: Iodine -124 | C31: I-124 | D31: 4.2 | E31: day | F31: positron β+ beta β- | H31: 1.69 | I31: 10 | J31: 0.8 | K31: 0.0002033 | L31: 0.969 | M31: 0.1145 | N31: 0.3759 | O31: 0.3759
B32: Iodine-131 | C32: I-131 | D32: 8 | E32: day | F32: gamma γ beta β- | G32: γ = 0.364 βmax = 0.61 βave = 0.192 | H32: 0.364 | I32: 5 | J32: 0.29 | K32: 7.64e-05 | L32: 2.41 | M32: 0.2332 | N32: 0.7896 | O32: 0.7896
B33: Iridium -192 | C33: Ir-192 | D33: 74 | E33: day | F33: gamma γ | G33: 0.296, 0.612, 1.4 | H33: 1.4 | I33: 9 | J33: 0.44 | K33: 0.00016 | L33: 2.334 | M33: 0.126 | N33: 0.401 | O33: 0.401
B34: Lutetium -177 | C34: Lu-177 | D34: 6.7 | E34: day | F34: gamma γ beta β- | G34: γ = 0.208 βmax = 0.498 βave = 0.149 | H34: 0.208 | I34: 3 | J34: 0.06 | K34: 7.64e-06 | L34: 11.55 | M34: 0.2949 | N34: 1.1496 | O34: 1.1496
B35: Nitrogen -13 | C35: N-13 | D35: 10 | E35: min | F35: positron β+ | G35: 0.511 | H35: 0.511 | I35: 6 | J35: 0.6 | K35: 0.000191 | L35: 1.695 | M35: 0.2032 | N35: 0.6625 | O35: 0.6625
B36: Radium -223 | C36: Ra-223 | D36: 11.4 | E36: day | F36: alpha α | G36: α = 5.6 -6.7 γ = 0.084, 0.269 | H36: 0.269 | I36: 4 | J36: 0.064 | K36: 8.78e-05 | L36: 10.79 | M36: 0.2629 | N36: 0.9476 | O36: 0.9476
B37: Rhenium-186 | C37: Re-186 | D37: 3.8 | E37: day | F37: gamma γ beta β- | G37: γ = 0.102 βmax = 1.077 βave = 0.362 | H37: 0.102 | I37: 2 | J37: 0.03 | K37: 4.91e-06 | L37: 28.58 | M37: 0.3997 | N37: 2.9268 | O37: 2.9268
B38: Rhenium -188 | C38: Re-188 | D38: 17 | E38: hour | F38: gamma γ beta β- | G38: γ = 0.155 βmax = 2.12 βave = 0.784 | H38: 0.155 | I38: 3 | J38: 0.52 | K38: 1.09e-05 | L38: 1.325 | M38: 0.3303 | N38: 1.5465 | O38: 1.5465
B39: Rubidium -82 | C39: Rb-82 | D39: 1.26 | E39: min | F39: positron β+ | G39: 0.511 | H39: 0.511 | I39: 6 | J39: 0.35 | K39: 0.000208 | L39: 1.571 | M39: 0.2032 | N39: 0.6625 | O39: 0.6625
B40: Technetium-99m | C40: Tc-99m | D40: 6.02 | E40: hour | F40: gamma γ | G40: 0.14 | H40: 0.14 | I40: 2 | J40: 0.025 | K40: 3.32e-05 | L40: 27.73 | M40: 0.3434 | N40: 1.8053 | O40: 1.8053
B41: Zirconium-89 | C41: Zr-89 | D41: 3.3 | E41: day | F41: positron β+ | G41: 0.511 | H41: 0.511 | I41: 6 | J41: 0.66 | K41: 0.000266 | L41: 1.045 | M41: 0.2032 | N41: 0.6625 | O41: 0.6625
B42: Terbium-161 | C42: Tb-161 | D42: 6.95 | E42: day | F42: gamma γ beta β- | G42: γ = 0.049, 0.0746 βmax = 0.593 βave = 0.154 | H42: 0.0746 | I42: 2 | J42: not avaliable | K42: not avaliable | L42: not available
B43: Yttrium-90 | C43: Y-90 | D43: 64.2 | E43: hour | F43: beta β- | G43: βmax = 2.28 βave = 0.93 | K43: 2.44e-08 | L43: 776.6 | O43: 776.6
C49: =VLOOKUP(C3,B53:C73,2,FALSE) -> 0.6625
B51: Name
B53: Actinium -225
B54: Carbon-11 | C54: 0.6625
B55: Cesium -137 | C55: 0.5787
B56: Cobalt -57 | C56: 1.878
B57: Cobalt-60 | C57: 0.4109
...

Sheet Sheet4
C1: search for build up factor
G2: calculated #MFP | H2: rounded #MFP | L2: lead | M2: 2π | W2: lead | X2: 4π | AG2: Concrete | AH2: 2π | AQ2: Concrete | AR2: 4π | BA2: Iron | BB2: 2π | BK2: Iron | BL2: 4π
B3: radioisotope: | C3: =Sheet1!D3 -> Fluorine -18 | J3: 1 | K3: =J3+1 -> 2 | L3: =K3+1 -> 3 | M3: =L3+1 -> 4 | N3: =M3+1 -> 5 | O3: =N3+1 -> 6 | P3: =O3+1 -> 7 | Q3: =P3+1 -> 8 | R3: =Q3+1 -> 9 | ... BQ3: =BP3+1 -> 60
G4: 0.1 | H4: 0.5 | J4: # of MFP | K4: 0.1 | L4: 0.2 | M4: 0.3 | N4: 0.4 | O4: 0.5 | P4: 0.6 | Q4: 0.8 | R4: 1 | S4: 2 | T4: # of MFP | U4: 0.1 | V4: 0.2 | W4: 0.3 | X4: 0.4 | Y4: 0.5 | Z4: 0.6 | AA4: 0.8 | AB4: 1 | AC4: 2 | AD4: # of MFP | AE4: 0.1 | AF4: 0.2 | AG4: 0.3 | AH4: 0.4 | AI4: 0.5 | AJ4: 0.6 | AK4: 0.8 | AL4: 1 | AM4: 2 | AN4: # of MFP | AO4: 0.1 | AP4: 0.2 | AQ4: 0.3 | AR4: 0.4 | AS4: 0.5 | AT4: 0.6 | AU4: 0.8 | AV4: 1 | AW4: 2 | AX4: # of MFP | AY4: 0.1 | AZ4: 0.2 | BA4: 0.3 | BB4: 0.4 | BC4: 0.5 | BD4: 0.6 | BE4: 0.8 | BF4: 1 | BG4: 2 | BH4: # of MFP | BI4: 0.1 | BJ4: 0.2 | BK4: 0.3 | BL4: 0.4 | BM4: 0.5 | BN4: 0.6 | BO4: 0.8 | BP4: 1 | BQ4: 2
B5: shielding material : | C5: =Sheet1!D5 -> concrete | G5: 0.2 | H5: 0.5 | J5: 0.5 | K5: 1 | L5: 1 | M5: 1 | N5: 1.11 | O5: 1.14 | P5: 1.16 | Q5: 1.2 | R5: 1.21 | S5: 1.25 | U5: 1 | V5: 1 | W5: 1 | X5: 1.19 | Y5: 1.24 | Z5: 1.29 | AA5: 1.35 | AB5: 1.42 | AC5: 1.48 | AE5: 2.15 | AF5: 2.05 | AG5: 1.93 | AH5: 1.84 | AI5: 1.76 | AJ5: 1.71 | AK5: 1.83 | AL5: 1.56 | AM5: 1.43 | AO5: 2.76 | AP5: 2.68 | AQ5: 2.52 | AR5: 2.4 | AS5: 2.3 | AT5: 2.22 | AU5: 2.11 | AV5: 2.02 | AW5: 1.82 | AY5: 1.26 | AZ5: 1.53 | BA5: 1.6 | BB5: 1.61 | BC5: 1.59 | BD5: 1.57 | BE5: 1.53 | BF5: 1.49 | BG5: 1.4 | BI5: 1.4 | BJ5: 1.88 | BK5: 2.03 | BL5: 2.07 | BM5: 2.05 | BN5: 2.02 | BO5: 1.96 | BP5: 1.91 | BQ5: 1.77
G6: 0.3 | H6: 0.5 | J6: 1 | K6: 1 | L6: 1 | M6: 1 | N6: 1.17 | O6: 1.22 | P6: 1.27 | Q6: 1.33 | R6: 1.37 | S6: 1.44 | U6: 1 | V6: 1 | W6: 1 | X6: 1.29 | Y6: 1.37 | Z6: 1.44 | AA6: 1.55 | AB6: 1.66 | AC6: 1.77 | AE6: 2.74 | AF6: 2.72 | AG6: 2.56 | AH6: 2.43 | AI6: 2.32 | AJ6: 2.24 | AK6: 2.11 | AL6: 2.01 | AM6: 1.79 | AO6: 4.17 | AP6: 4.21 | AQ6: 3.9 | AR6: 3.67 | AS6: 3.46 | AT6: 3.3 | AU6: 3.07 | AV6: 2.89 | AW6: 2.44 | AY6: 1.36 | AZ6: 1.83 | BA6: 1.99 | BB6: 2.03 | BC6: 2.02 | BD6: 2 | BE6: 1.93 | BF6: 1.88 | BG6: 1.73 | BI6: 1.61 | BJ6: 2.48 | BK6: 2.8 | BL6: 2.89 | BM6: 2.86 | BN6: 2.82 | BO6: 2.72 | BP6: 2.62 | BQ6: 2.32
B7: geometry: | C7: =Sheet1!D7 -> 4π | G7: 0.4 | H7: 0.5 | J7: 2 | K7: 1 | L7: 1 | M7: 1 | N7: 1.26 | O7: 1.35 | P7: 1.43 | Q7: 1.55 | R7: 1.64 | S7: 1.79 | U7: 1 | V7: 1 | W7: 1 | X7: 1.44 | Y7: 1.57 | Z7: 1.7 | AA7: 1.89 | AB7: 2.08 | AC7: 2.3 | AE7: 3.85 | AF7: 4.16 | AG7: 3.92 | AH7: 3.73 | AI7: 3.54 | AJ7: 3.38 | AK7: 3.14 | AL7: 2.96 | AM7: 2.52 | AO7: 7.32 | AP7: 8.05 | AQ7: 7.4 | AR7: 6.81 | AS7: 6.32 | AT7: 5.92 | AU7: 5.32 | AV7: 4.86 | AW7: 3.74 | AY7: 1.51 | AZ7: 2.36 | BA7: 2.73 | BB7: 2.87 | BC7: 2.88 | BD7: 2.85 | BE7: 2.77 | BF7: 2.68 | BG7: 2.39 | BI7: 1.97 | BJ7: 3.65 | BK7: 4.43 | BL7: 4.69 | BM7: 4.68 | BN7: 4.61 | BO7: 4.39 | BP7: 4.17 | BQ7: 3.46
G8: 0.5 | H8: 0.5 | J8: 3 | K8: 1 | L8: 1 | M8: 1 | N8: 1.33 | O8: 1.46 | P8: 1.57 | Q8: 1.75 | R8: 1.87 | S8: 2.13 | U8: 1 | V8: 1 | W8: 1 | X8: 1.56 | Y8: 1.75 | Z8: 1.93 | AA8: 2.2 | AB8: 2.47 | AC8: 2.83 | AE8: 4.99 | AF8: 5.78 | AG8: 5.48 | AH8: 5.21 | AI8: 4.95 | AJ8: 4.66 | AK8: 4.31 | AL8: 4.02 | AM8: 3.28 | AO8: 10.9 | AP8: 13 | AQ8: 12 | AR8: 10.9 | AS8: 9.94 | AT8: 9.17 | AU8: 8.03 | AV8: 7.18 | AW8: 5.13 | AY8: 1.64 | AZ8: 2.86 | BA8: 3.48 | BB8: 3.75 | BC8: 3.82 | BD8: 3.76 | BE8: 3.68 | BF8: 3.54 | BG8: 3.09 | BI8: 2.28 | BJ8: 4.87 | BK8: 6.24 | BL8: 6.75 | BM8: 6.76 | BN8: 6.67 | BO8: 6.31 | BP8: 5.93 | BQ8: 4.69
B9: calculation type: | C9: =Sheet1!D9 -> thickness of shielding required | G9: 0.6 | H9: 1 | J9: 4 | K9: 1 | L9: 1 | M9: 1 | N9: 1.39 | O9: 1.55 | P9: 1.68 | Q9: 1.92 | R9: 2.09 | S9: 2.47 | U9: 1 | V9: 1 | W9: 1 | X9: 1.67 | Y9: 1.91 | Z9: 2.14 | AA9: 2.49 | AB9: 2.83 | AC9: 3.35 | AE9: 6.16 | AF9: 7.6 | AG9: 7.28 | AH9: 6.9 | AI9: 8.55 | AJ9: 6.09 | AK9: 5.61 | AL9: 5.17 | AM9: 4.08 | AO9: 15 | AP9: 19.1 | AQ9: 17.6 | AR9: 15.8 | AS9: 14.3 | AT9: 13.1 | AU9: 11.2 | AV9: 9.81 | AW9: 6.59 | AY9: 1.74 | AZ9: 3.34 | BA9: 4.25 | BB9: 4.68 | BC9: 4.82 | BD9: 4.74 | BE9: 4.66 | BF9: 4.46 | BG9: 3.82 | BI9: 2.56 | BJ9: 6.11 | BK9: 8.22 | BL9: 9.06 | BM9: 9.12 | BN9: 9 | BO9: 8.47 | BP9: 7.87 | BQ9: 5.98
G10: 0.7 | H10: 1 | J10: 5 | K10: 1 | L10: 1 | M10: 1 | N10: 1.44 | O10: 1.63 | P10: 1.79 | Q10: 2.08 | R10: 2.29 | S10: 2.8 | U10: 1 | V10: 1 | W10: 1 | X10: 1.78 | Y10: 2.07 | Z10: 2.34 | AA10: 2.76 | AB10: 3.18 | AC10: 3.87 | AE10: 7.4 | AF10: 9.68 | AG10: 9.33 | AH10: 8.83 | AI10: 8.38 | AJ10: 7.71 | AK10: 7.06 | AL10: 6.43 | AM10: 4.92 | AO10: 19.6 | AP10: 26.6 | AQ10: 24.6 | AR10: 21.8 | AS10: 19.5 | AT10: 17.6 | AU10: 14.8 | AV10: 12.7 | AW10: 8.13 | AY10: 1.84 | AZ10: 3.8 | BA10: 5.03 | BB10: 5.66 | BC10: 5.91 | BD10: 5.87 | BE10: 5.72 | BF10: 5.44 | BG10: 4.58 | BI10: 2.82 | BJ10: 7.37 | BK10: 10.3 | BL10: 11.6 | BM10: 11.8 | BN10: 11.6 | BO10: 10.9 | BP10: 10 | BQ10: 7.36
G11: 0.8 | H11: 1 | J11: 6 | K11: 1 | L11: 1 | M11: 1 | N11: 1.49 | O11: 1.7 | P11: 1.89 | Q11: 2.23 | R11: 2.48 | S11: 3.14 | U11: 1 | V11: 1 | W11: 1 | X11: 1.87 | Y11: 2.21 | Z11: 2.53 | AA11: 3.03 | AB11: 3.53 | AC11: 4.42 | AE11: 8.76 | AF11: 12.1 | AG11: 11.7 | AH11: 11.1 | AI11: 10.5 | AJ11: 9.54 | AK11: 8.69 | AL11: 7.82 | AM11: 5.82 | AO11: 24.8 | AP11: 35.7 | AQ11: 33 | AR11: 29 | AS11: 25.7 | AT11: 23 | AU11: 18.9 | AV11: 16.1 | AW11: 9.83 | AY11: 1.91 | AZ11: 4.22 | BA11: 5.78 | BB11: 6.63 | BC11: 7.11 | BD11: 7.07 | BE11: 6.89 | BF11: 6.51 | BG11: 5.4 | BI11: 3.05 | BJ11: 8.58 | BK11: 12.5 | BL11: 14.2 | BM11: 14.8 | BN11: 14.6 | BO11: 13.6 | BP11: 12.4 | BQ11: 8.86
B12: type code = | C12: =Sheet2!K4 -> 20 | G12: 0.9 | H12: 1 | J12: 7 | K12: 1 | L12: 1 | M12: 1 | N12: 1.53 | O12: 1.77 | P12: 1.98 | Q12: 2.37 | R12: 2.67 | S12: 3.48 | U12: 1 | V12: 1 | W12: 1 | X12: 1.96 | Y12: 2.35 | Z12: 2.72 | AA12: 3.29 | AB12: 3.86 | AC12: 4.96 | AE12: 10.2 | AF12: 14.7 | AG12: 14.4 | AH12: 13.6 | AI12: 12.8 | AJ12: 11.5 | AK12: 10.5 | AL12: 9.3 | AM12: 6.75 | AO12: 30.5 | AP12: 46.3 | AQ12: 42.8 | AR12: 37.3 | AS12: 32.7 | AT12: 29 | AU12: 23.5 | AV12: 19.7 | AW12: 11.6 | AY12: 1.99 | AZ12: 4.64 | BA12: 6.57 | BB12: 7.68 | BC12: 8.38 | BD12: 8.35 | BE12: 8.14 | BF12: 7.63 | BG12: 6.24 | BI12: 3.28 | BJ12: 9.86 | BK12: 14.8 | BL12: 17 | BM12: 18 | BN12: 17.8 | BO12: 16.5 | BP12: 15 | BQ12: 10.4
G13: 1 | H13: 1 | J13: 8 | K13: 1 | L13: 1 | M13: 1 | N13: 1.57 | O13: 1.83 | P13: 2.06 | Q13: 2.51 | R13: 2.84 | S13: 3.81 | U13: 1 | V13: 1 | W13: 1 | X13: 2.05 | Y13: 2.49 | Z13: 2.89 | AA13: 3.54 | AB13: 4.18 | AC13: 5.51 | AE13: 11.7 | AF13: 17.7 | AG13: 17.3 | AH13: 16.3 | AI13: 15.4 | AJ13: 13.7 | AK13: 12.4 | AL13: 10.9 | AM13: 7.71 | AO13: 36.7 | AP13: 58.6 | AQ13: 54.1 | AR13: 46.7 | AS13: 40.6 | AT13: 35.7 | AU13: 28.5 | AV13: 23.6 | AW13: 13.4 | AY13: 2.06 | AZ13: 5.06 | BA13: 7.38 | BB13: 8.77 | BC13: 9.74 | BD13: 9.71 | BE13: 9.47 | BF13: 8.82 | BG13: 7.12 | BI13: 3.5 | BJ13: 11.2 | BK13: 17.2 | BL13: 20.1 | BM13: 21.5 | BN13: 21.3 | BO13: 19.7 | BP13: 17.7 | BQ13: 12
B14: MFP = | C14: =Sheet3!D14 -> 4.9212598 | G14: 1.1 | H14: 1 | J14: 10 | K14: 1 | L14: 1 | M14: 1 | N14: 1.64 | O14: 1.94 | P14: 2.21 | Q14: 2.76 | R14: 3.18 | S14: 4.49 | U14: 1 | V14: 1 | W14: 1 | X14: 2.2 | Y14: 2.73 | Z14: 3.23 | AA14: 4.02 | AB14: 4.8 | AC14: 6.62 | AE14: 14.9 | AF14: 24.5 | AG14: 24.2 | AH14: 22.7 | AI14: 21.4 | AJ14: 18.7 | AK14: 16.7 | AL14: 14.3 | AM14: 9.7 | AO14: 50.5 | AP14: 88.4 | AQ14: 81.6 | AR14: 69.2 | AS14: 59 | AT14: 51.1 | AU14: 39.7 | AV14: 32 | AW14: 17.1 | AY14: 2.19 | AZ14: 5.9 | BA14: 9.07 | BB14: 11.1 | BC14: 12.7 | BD14: 12.6 | BE14: 12.4 | BF14: 11.3 | BG14: 8.95 | BI14: 3.92 | BJ14: 13.9 | BK14: 22.5 | BL14: 26.9 | BM14: 29.3 | BN14: 29.1 | BO14: 26.6 | BP14: 23.6 | BQ14: 15.4
G15: 1.2 | H15: 1 | J15: 15 | K15: 1 | L15: 1 | M15: 1 | N15: 1.78 | O15: 2.17 | P15: 2.54 | Q15: 3.33 | R15: 3.93 | S15: 6.18 | U15: 1 | V15: 1 | W15: 1 | X15: 2.53 | Y15: 3.3 | Z15: 3.99 | AA15: 5.12 | AB15: 6.24 | AC15: 9.45 | AE15: 24.3 | AF15: 48 | AG15: 47.7 | AH15: 44.2 | AI15: 41 | AJ15: 34.2 | AK15: 30 | AL15: 24.3 | AM15: 15.1 | AO15: 93.8 | AP15: 199 | AQ15: 182 | AR15: 148 | AS15: 121 | AT15: 101 | AU15: 74.4 | AV15: 57 | AW15: 27.1 | AY15: 2.48 | AZ15: 8.01 | BA15: 13.6 | BB15: 17.9 | BC15: 21.5 | BD15: 21.5 | BE15: 21 | BF15: 18.5 | BG15: 13.9 | BI15: 4.91 | BJ15: 21 | BK15: 37.6 | BL15: 47.1 | BM15: 53.2 | BN15: 53 | BO15: 47.5 | BP15: 40.6 | BQ15: 24.7
B16: shielding thickess = | C16: =IF(C12=10,Sheet1!D20,"not applicable") -> not applicable | D16: cm | G16: 1.3 | H16: 1 | J16: 20 | K16: 1 | L16: 1 | M16: 1 | N16: 1.89 | O16: 2.37 | P16: 2.82 | Q16: 3.84 | R16: 4.61 | S16: 7.89 | U16: 1 | V16: 1 | W16: 1 | X16: 2.8 | Y16: 3.82 | Z16: 4.68 | AA16: 6.12 | AB16: 7.58 | AC16: 12.3 | AE16: 35.8 | AF16: 82 | AG16: 81 | AH16: 74.1 | AI16: 67.5 | AJ16: 54.2 | AK16: 46.9 | AL16: 36.1 | AM16: 21 | AO16: 149 | AP16: 371 | AQ16: 333 | AR16: 262 | AS16: 205 | AT16: 168 | AU16: 118 | AV16: 86.6 | AW16: 38 | AY16: 2.74 | AZ16: 10.1 | BA16: 18.6 | BB16: 25.7 | BC16: 32.3 | BD16: 32.4 | BE16: 31.4 | BF16: 26.8 | BG16: 19.4 | BI16: 5.83 | BJ16: 28.6 | BK16: 55.1 | BL16: 71.7 | BM16: 82.7 | BN16: 82.7 | BO16: 72.8 | BP16: 60.5 | BQ16: 34.9
G17: 1.4 | H17: 1 | J17: 25 | K17: 1 | L17: 1 | M17: 1 | N17: 1.99 | O17: 2.56 | P17: 3.07 | Q17: 4.3 | R17: 5.23 | S17: 9.62 | U17: 1 | V17: 1 | W17: 1 | X17: 3.04 | Y17: 4.31 | Z17: 5.34 | AA17: 7.07 | AB17: 8.85 | AC17: 15.3 | AE17: 49.1 | AF17: 128 | AG17: 125 | AH17: 113 | AI17: 101 | AJ17: 78.7 | AK17: 67 | AL17: 49.4 | AM17: 27.2 | AO17: 217 | AP17: 615 | AQ17: 541 | AR17: 412 | AS17: 311 | AT17: 250 | AU17: 170 | AV17: 120 | AW17: 49.4 | AY17: 2.97 | AZ17: 12.3 | BA17: 23.9 | BB17: 34.7 | BC17: 44.9 | BD17: 45.2 | BE17: 43.5 | BF17: 35.8 | BG17: 25.4 | BI17: 6.71 | BJ17: 36.5 | BK17: 74.6 | BL17: 100 | BM17: 117 | BN17: 118 | BO17: 102 | BP17: 82.6 | BQ17: 45.7
B18: calculated # of MFP = | C18: =C16/C14 -> #VALUE! | G18: 1.5 | H18: 2 | J18: 30 | K18: 1 | L18: 1 | M18: 1 | N18: 2.08 | O18: 2.73 | P18: 3.31 | Q18: 4.72 | R18: 5.83 | S18: 11.3 | U18: 1 | V18: 1 | W18: 1 | X18: 3.26 | Y18: 4.79 | Z18: 5.96 | AA18: 7.97 | AB18: 10.1 | AC18: 18.2 | AE18: 64.3 | AF18: 189 | AG18: 181 | AH18: 161 | AI18: 142 | AJ18: 108 | AK18: 90.4 | AL18: 63.9 | AM18: 33.8 | AO18: 295 | AP18: 942 | AQ18: 810 | AR18: 600 | AS18: 437 | AT18: 347 | AU18: 229 | AV18: 157 | AW18: 61.3 | AY18: 3.18 | AZ18: 14.5 | BA18: 29.7 | BB18: 44.7 | BC18: 59.1 | BD18: 60 | BE18: 57.3 | BF18: 45.6 | BG18: 31.6 | BI18: 7.56 | BJ18: 44.6 | BK18: 95.6 | BL18: 132 | BM18: 156 | BN18: 157 | BO18: 135 | BP18: 106 | BQ18: 57.1
G19: 1.6 | H19: 2 | J19: 35 | K19: 1 | L19: 1 | M19: 1 | N19: 2.16 | O19: 2.89 | P19: 3.53 | Q19: 5.12 | R19: 6.39 | S19: 13.1 | U19: 1 | V19: 1 | W19: 1 | X19: 3.45 | Y19: 5.25 | Z19: 6.56 | AA19: 8.83 | AB19: 11.2 | AC19: 21.2 | AE19: 81 | AF19: 264 | AG19: 249 | AH19: 220 | AI19: 189 | AJ19: 141 | AK19: 117 | AL19: 79.3 | AM19: 40.6 | AO19: 384 | AP19: 1360 | AQ19: 1140 | AR19: 826 | AS19: 582 | AT19: 457 | AU19: 294 | AV19: 196 | AW19: 73.5 | AY19: 3.38 | AZ19: 16.7 | BA19: 35.7 | BB19: 55.6 | BC19: 74.8 | BD19: 76.7 | BE19: 72.6 | BF19: 55.9 | BG19: 38.1 | BI19: 8.39 | BJ19: 53 | BK19: 118 | BL19: 167 | BM19: 199 | BN19: 201 | BO19: 171 | BP19: 132 | BQ19: 68.9
B20: round up # of MFP = | C20: =VLOOKUP(C18,G4:H427,2,TRUE) -> #VALUE! | G20: 1.7 | H20: 2 | J20: 40 | K20: 1 | L20: 1 | M20: 1 | N20: 2.24 | O20: 3.05 | P20: 3.74 | Q20: 5.49 | R20: 6.93 | S20: 14.8 | U20: 1 | V20: 1 | W20: 1 | X20: 3.63 | Y20: 5.71 | Z20: 7.15 | AA20: 9.66 | AB20: 12.4 | AC20: 24.2 | AE20: 99.2 | AF20: 357 | AG20: 330 | AH20: 288 | AI20: 242 | AJ20: 177 | AK20: 146 | AL20: 95.6 | AM20: 47.5 | AO20: 492 | AP20: 1870 | AQ20: 1540 | AR20: 1090 | AS20: 745 | AT20: 579 | AU20: 365 | AV20: 237 | AW20: 85.9 | AY20: 3.58 | AZ20: 19 | BA20: 42 | BB20: 67.4 | BC20: 91.8 | BD20: 95.1 | BE20: 89.2 | BF20: 66.6 | BG20: 44.9 | BI20: 9.22 | BJ20: 61.4 | BK20: 141 | BL20: 205 | BM20: 245 | BN20: 248 | BO20: 210 | BP20: 159 | BQ20: 80.9
G21: 1.8 | H21: 2
B22: first column in build | G22: 1.9 | H22: 2
B23: up factor table = | C23: =Sheet3!D12 -> 6 | G23: 2 | H23: 2
G24: 2.1 | H24: 2
B25: column additor = | C25: =Sheet2!K20 -> 30 | G25: 2.2 | H25: 2
G26: 2.3 | H26: 2
B27: column to search | G27: 2.4 | H27: 2
B28: in build up factor table = | C28: =C23+C25 -> 36 | G28: 2.5 | H28: 3
G29: 2.6 | H29: 3
B30: raw build up factor = | C30: =VLOOKUP(C20,J5:BQ20,C28,FALSE) -> #VALUE! | G30: 2.7 | H30: 3
G31: 2.8 | H31: 3
B32: adjusted build up factor= | C32: =IF(C18<0.5,1,C30) -> #VALUE! | G32: 2.9 | H32: 3
G33: 3 | H33: 3
G34: 3.1 | H34: 3
A35: NOTE: | B35: =IF(Sheet2!K4=20,"current calculation is find thickness, this page is only to find build up factor, refer to sheet6 for calculation","----") -> current calculation is find thickness, this page is only to find build up factor, refer to sheet6 for calculation | G35: 3.2 | H35: 3
G36: 3.3 | H36: 3
G37: 3.4 | H37: 3
G38: 3.5 | H38: 4
G39: 3.6 | H39: 4
G40: 3.7 | H40: 4
...

Sheet Sheet5
C1: calculation : exposure after shielding with /without building up factor
B3: radioisotope: | C3: =Sheet1!D3 -> Fluorine -18 | G3: combined code = | I3: =Sheet2!H16 -> 2221
B5: shielding material : | C5: =Sheet1!D5 -> concrete | G5: initial exposure = | I5: =Sheet1!D18 -> 250
B7: geometry: | C7: =Sheet1!D7 -> 4π | G7: shielding thickness= | I7: =Sheet1!D20 -> 0.5
B9: calculation with /without build up factor : | G9: W or W/O build up factor code = | I9: =Sheet2!K11 -> 1
C10: =Sheet1!D12 -> with
G11: build up factor = | I11: =IF(I9=1,Sheet4!C32,1) -> #VALUE!
G13: linear attenuation coef= | I13: =Sheet3!D10 -> 0.2032
G15: final expoure = | I15: =I11*I5*EXP(-1*I13*I7) -> #VALUE!
A17: NOTE: | B17: =IF(Sheet2!K4=20,"current calculation to find thickness, this page not in operation, refer to sheet 6","----") -> current calculation to find thickness, this page not in operation, refer to sheet 6

Sheet Sheet6
C1: calculation : thickness of shielding required | O1: =IF(M1<$K$17,G1," ")
O2: =IF(M2<$K$17,G2," ")
B3: select | C3: radioisotope: | D3: =Sheet1!D3 -> Fluorine -18 | O3: =IF(M3<$K$17,G3," ")
O4: =IF(M4<$K$17,G4," ")
B5: select | C5: shielding material : | D5: =Sheet1!D5 -> concrete | G5: combined code = | I5: =Sheet2!H16 -> 2221 | O5: =IF(M5<$K$17,G5," ") | P5: calculated #MFP | Q5: rounded #MFP | U5: lead | V5: 2π | AF5: lead | AG5: 4π | AP5: Concrete | AQ5: 2π | AZ5: Concrete | BA5: 4π | BJ5: Iron | BK5: 2π | BT5: Iron | BU5: 4π
O6: =IF(M6<$K$17,G6," ") | S6: 1 | T6: =S6+1 -> 2 | U6: =T6+1 -> 3 | V6: =U6+1 -> 4 | W6: =V6+1 -> 5 | X6: =W6+1 -> 6 | Y6: =X6+1 -> 7 | Z6: =Y6+1 -> 8 | AA6: =Z6+1 -> 9 | ... BZ6: =BY6+1 -> 60
B7: select | C7: geometry: | D7: =Sheet1!D7 -> 4π | F7: W or W/O build up factor code= | I7: =Sheet2!K11 -> 1 | O7: =IF(M7<$K$17,G7," ") | P7: 0.1 | Q7: 0.5 | S7: # of MFP | T7: 0.1 | U7: 0.2 | V7: 0.3 | W7: 0.4 | X7: 0.5 | Y7: 0.6 | Z7: 0.8 | AA7: 1 | AB7: 2 | AC7: # of MFP | AD7: 0.1 | AE7: 0.2 | AF7: 0.3 | AG7: 0.4 | AH7: 0.5 | AI7: 0.6 | AJ7: 0.8 | AK7: 1 | AL7: 2 | AM7: # of MFP | AN7: 0.1 | AO7: 0.2 | AP7: 0.3 | AQ7: 0.4 | AR7: 0.5 | AS7: 0.6 | AT7: 0.8 | AU7: 1 | AV7: 2 | AW7: # of MFP | AX7: 0.1 | AY7: 0.2 | AZ7: 0.3 | BA7: 0.4 | BB7: 0.5 | BC7: 0.6 | BD7: 0.8 | BE7: 1 | BF7: 2 | BG7: # of MFP | BH7: 0.1 | BI7: 0.2 | BJ7: 0.3 | BK7: 0.4 | BL7: 0.5 | BM7: 0.6 | BN7: 0.8 | BO7: 1 | BP7: 2 | BQ7: # of MFP | BR7: 0.1 | BS7: 0.2 | BT7: 0.3 | BU7: 0.4 | BV7: 0.5 | BW7: 0.6 | BX7: 0.8 | BY7: 1 | BZ7: 2
O8: =IF(M8<$K$17,G8," ") | P8: 0.2 | Q8: 0.5 | S8: 0.5 | T8: 1 | U8: 1 | V8: 1 | W8: 1.11 | X8: 1.14 | Y8: 1.16 | Z8: 1.2 | AA8: 1.21 | AB8: 1.25 | AD8: 1 | AE8: 1 | AF8: 1 | AG8: 1.19 | AH8: 1.24 | AI8: 1.29 | AJ8: 1.35 | AK8: 1.42 | AL8: 1.48 | AN8: 2.15 | AO8: 2.05 | AP8: 1.93 | AQ8: 1.84 | AR8: 1.76 | AS8: 1.71 | AT8: 1.83 | AU8: 1.56 | AV8: 1.43 | AX8: 2.76 | AY8: 2.68 | AZ8: 2.52 | BA8: 2.4 | BB8: 2.3 | BC8: 2.22 | BD8: 2.11 | BE8: 2.02 | BF8: 1.82 | BH8: 1.26 | BI8: 1.53 | BJ8: 1.6 | BK8: 1.61 | BL8: 1.59 | BM8: 1.57 | BN8: 1.53 | BO8: 1.49 | BP8: 1.4 | BR8: 1.4 | BS8: 1.88 | BT8: 2.03 | BU8: 2.07 | BV8: 2.05 | BW8: 2.02 | BX8: 1.96 | BY8: 1.91 | BZ8: 1.77
B9: select | C9: calculation with /without build up factor : | F9: prelimnary thickness W/O build up factor= | J9: =(LN(D15)-LN(D13))/(-1*D17) -> 30.583701 | K9: cm | O9: =IF(M9<$K$17,#REF!," ") | P9: 0.3 | Q9: 0.5 | S9: 1 | T9: 1 | U9: 1 | V9: 1 | W9: 1.17 | X9: 1.22 | Y9: 1.27 | Z9: 1.33 | AA9: 1.37 | AB9: 1.44 | AD9: 1 | AE9: 1 | AF9: 1 | AG9: 1.29 | AH9: 1.37 | AI9: 1.44 | AJ9: 1.55 | AK9: 1.66 | AL9: 1.77 | AN9: 2.74 | AO9: 2.72 | AP9: 2.56 | AQ9: 2.43 | AR9: 2.32 | AS9: 2.24 | AT9: 2.11 | AU9: 2.01 | AV9: 1.79 | AX9: 4.17 | AY9: 4.21 | AZ9: 3.9 | BA9: 3.67 | BB9: 3.46 | BC9: 3.3 | BD9: 3.07 | BE9: 2.89 | BF9: 2.44 | BH9: 1.36 | BI9: 1.83 | BJ9: 1.99 | BK9: 2.03 | BL9: 2.02 | BM9: 2 | BN9: 1.93 | BO9: 1.88 | BP9: 1.73 | BR9: 1.61 | BS9: 2.48 | BT9: 2.8 | BU9: 2.89 | BV9: 2.86 | BW9: 2.82 | BX9: 2.72 | BY9: 2.62 | BZ9: 2.32
D10: =Sheet1!D12 -> with | F10: thickness with build up factor = | I10: =N20 -> 50.683701 | J10: cm | O10: =IF(M10<$K$17,G9," ") | P10: 0.4 | Q10: 0.5 | S10: 2 | T10: 1 | U10: 1 | V10: 1 | W10: 1.26 | X10: 1.35 | Y10: 1.43 | Z10: 1.55 | AA10: 1.64 | AB10: 1.79 | AD10: 1 | AE10: 1 | AF10: 1 | AG10: 1.44 | AH10: 1.57 | AI10: 1.7 | AJ10: 1.89 | AK10: 2.08 | AL10: 2.3 | AN10: 3.85 | AO10: 4.16 | AP10: 3.92 | AQ10: 3.73 | AR10: 3.54 | AS10: 3.38 | AT10: 3.14 | AU10: 2.96 | AV10: 2.52 | AX10: 7.32 | AY10: 8.05 | AZ10: 7.4 | BA10: 6.81 | BB10: 6.32 | BC10: 5.92 | BD10: 5.32 | BE10: 4.86 | BF10: 3.74 | BH10: 1.51 | BI10: 2.36 | BJ10: 2.73 | BK10: 2.87 | BL10: 2.88 | BM10: 2.85 | BN10: 2.77 | BO10: 2.68 | BP10: 2.39 | BR10: 1.97 | BS10: 3.65 | BT10: 4.43 | BU10: 4.69 | BV10: 4.68 | BW10: 4.61 | BX10: 4.39 | BY10: 4.17 | BZ10: 3.46
F11: Final result -thicness required with or W/O build up factor = | L11: =IF(I7=1,I10,J9) -> 50.683701 | O11: =IF(M11<$K$17,G11," ") | P11: 0.5 | Q11: 0.5 | S11: 3 | T11: 1 | U11: 1 | V11: 1 | W11: 1.33 | X11: 1.46 | Y11: 1.57 | Z11: 1.75 | AA11: 1.87 | AB11: 2.13 | AD11: 1 | AE11: 1 | AF11: 1 | AG11: 1.56 | AH11: 1.75 | AI11: 1.93 | AJ11: 2.2 | AK11: 2.47 | AL11: 2.83 | AN11: 4.99 | AO11: 5.78 | AP11: 5.48 | AQ11: 5.21 | AR11: 4.95 | AS11: 4.66 | AT11: 4.31 | AU11: 4.02 | AV11: 3.28 | AX11: 10.9 | AY11: 13 | AZ11: 12 | BA11: 10.9 | BB11: 9.94 | BC11: 9.17 | BD11: 8.03 | BE11: 7.18 | BF11: 5.13 | BH11: 1.64 | BI11: 2.86 | BJ11: 3.48 | BK11: 3.75 | BL11: 3.82 | BM11: 3.76 | BN11: 3.68 | BO11: 3.54 | BP11: 3.09 | BR11: 2.28 | BS11: 4.87 | BT11: 6.24 | BU11: 6.75 | BV11: 6.76 | BW11: 6.67 | BX11: 6.31 | BY11: 5.93 | BZ11: 4.69
O12: =IF(M12<$K$17,G12," ") | P12: 0.6 | Q12: 1 | S12: 4 | T12: 1 | U12: 1 | V12: 1 | W12: 1.39 | X12: 1.55 | Y12: 1.68 | Z12: 1.92 | AA12: 2.09 | AB12: 2.47 | AD12: 1 | AE12: 1 | AF12: 1 | AG12: 1.67 | AH12: 1.91 | AI12: 2.14 | AJ12: 2.49 | AK12: 2.83 | AL12: 3.35 | AN12: 6.16 | AO12: 7.6 | AP12: 7.28 | AQ12: 6.9 | AR12: 8.55 | AS12: 6.09 | AT12: 5.61 | AU12: 5.17 | AV12: 4.08 | AX12: 15 | AY12: 19.1 | AZ12: 17.6 | BA12: 15.8 | BB12: 14.3 | BC12: 13.1 | BD12: 11.2 | BE12: 9.81 | BF12: 6.59 | BH12: 1.74 | BI12: 3.34 | BJ12: 4.25 | BK12: 4.68 | BL12: 4.82 | BM12: 4.74 | BN12: 4.66 | BO12: 4.46 | BP12: 3.82 | BR12: 2.56 | BS12: 6.11 | BT12: 8.22 | BU12: 9.06 | BV12: 9.12 | BW12: 9 | BX12: 8.47 | BY12: 7.87 | BZ12: 5.98
C13: initial exposure = | D13: =Sheet1!D18 -> 250 | F13: estimation of thickness W build up factor: | O13: =IF(M13<$K$17,G13," ") | P13: 0.7 | Q13: 1 | S13: 5 | T13: 1 | U13: 1 | V13: 1 | W13: 1.44 | X13: 1.63 | Y13: 1.79 | Z13: 2.08 | AA13: 2.29 | AB13: 2.8 | AD13: 1 | AE13: 1 | AF13: 1 | AG13: 1.78 | AH13: 2.07 | AI13: 2.34 | AJ13: 2.76 | AK13: 3.18 | AL13: 3.87 | AN13: 7.4 | AO13: 9.68 | AP13: 9.33 | AQ13: 8.83 | AR13: 8.38 | AS13: 7.71 | AT13: 7.06 | AU13: 6.43 | AV13: 4.92 | AX13: 19.6 | AY13: 26.6 | AZ13: 24.6 | BA13: 21.8 | BB13: 19.5 | BC13: 17.6 | BD13: 14.8 | BE13: 12.7 | BF13: 8.13 | BH13: 1.84 | BI13: 3.8 | BJ13: 5.03 | BK13: 5.66 | BL13: 5.91 | BM13: 5.87 | BN13: 5.72 | BO13: 5.44 | BP13: 4.58 | BR13: 2.82 | BS13: 7.37 | BT13: 10.3 | BU13: 11.6 | BV13: 11.8 | BW13: 11.6 | BX13: 10.9 | BY13: 10 | BZ13: 7.36
O14: =IF(M14<$K$17,G14," ") | P14: 0.8 | Q14: 1 | S14: 6 | T14: 1 | U14: 1 | V14: 1 | W14: 1.49 | X14: 1.7 | Y14: 1.89 | Z14: 2.23 | AA14: 2.48 | AB14: 3.14 | AD14: 1 | AE14: 1 | AF14: 1 | AG14: 1.87 | AH14: 2.21 | AI14: 2.53 | AJ14: 3.03 | AK14: 3.53 | AL14: 4.42 | AN14: 8.76 | AO14: 12.1 | AP14: 11.7 | AQ14: 11.1 | AR14: 10.5 | AS14: 9.54 | AT14: 8.69 | AU14: 7.82 | AV14: 5.82 | AX14: 24.8 | AY14: 35.7 | AZ14: 33 | BA14: 29 | BB14: 25.7 | BC14: 23 | BD14: 18.9 | BE14: 16.1 | BF14: 9.83 | BH14: 1.91 | BI14: 4.22 | BJ14: 5.78 | BK14: 6.63 | BL14: 7.11 | BM14: 7.07 | BN14: 6.89 | BO14: 6.51 | BP14: 5.4 | BR14: 3.05 | BS14: 8.58 | BT14: 12.5 | BU14: 14.2 | BV14: 14.8 | BW14: 14.6 | BX14: 13.6 | BY14: 12.4 | BZ14: 8.86
C15: target exposure = | D15: =Sheet1!D20 -> 0.5 | F15: thickness increment= | H15: 0.1 | I15: cm | O15: =IF(M15<$K$17,G15," ") | P15: 0.9 | Q15: 1 | S15: 7 | T15: 1 | U15: 1 | V15: 1 | W15: 1.53 | X15: 1.77 | Y15: 1.98 | Z15: 2.37 | AA15: 2.67 | AB15: 3.48 | AD15: 1 | AE15: 1 | AF15: 1 | AG15: 1.96 | AH15: 2.35 | AI15: 2.72 | AJ15: 3.29 | AK15: 3.86 | AL15: 4.96 | AN15: 10.2 | AO15: 14.7 | AP15: 14.4 | AQ15: 13.6 | AR15: 12.8 | AS15: 11.5 | AT15: 10.5 | AU15: 9.3 | AV15: 6.75 | AX15: 30.5 | AY15: 46.3 | AZ15: 42.8 | BA15: 37.3 | BB15: 32.7 | BC15: 29 | BD15: 23.5 | BE15: 19.7 | BF15: 11.6 | BH15: 1.99 | BI15: 4.64 | BJ15: 6.57 | BK15: 7.68 | BL15: 8.38 | BM15: 8.35 | BN15: 8.14 | BO15: 7.63 | BP15: 6.24 | BR15: 3.28 | BS15: 9.86 | BT15: 14.8 | BU15: 17 | BV15: 18 | BW15: 17.8 | BX15: 16.5 | BY15: 15 | BZ15: 10.4
O16: =IF(M16<$K$17,G16," ") | P16: 1 | Q16: 1 | S16: 8 | T16: 1 | U16: 1 | V16: 1 | W16: 1.57 | X16: 1.83 | Y16: 2.06 | Z16: 2.51 | AA16: 2.84 | AB16: 3.81 | AD16: 1 | AE16: 1 | AF16: 1 | AG16: 2.05 | AH16: 2.49 | AI16: 2.89 | AJ16: 3.54 | AK16: 4.18 | AL16: 5.51 | AN16: 11.7 | AO16: 17.7 | AP16: 17.3 | AQ16: 16.3 | AR16: 15.4 | AS16: 13.7 | AT16: 12.4 | AU16: 10.9 | AV16: 7.71 | AX16: 36.7 | AY16: 58.6 | AZ16: 54.1 | BA16: 46.7 | BB16: 40.6 | BC16: 35.7 | BD16: 28.5 | BE16: 23.6 | BF16: 13.4 | BH16: 2.06 | BI16: 5.06 | BJ16: 7.38 | BK16: 8.77 | BL16: 9.74 | BM16: 9.71 | BN16: 9.47 | BO16: 8.82 | BP16: 7.12 | BR16: 3.5 | BS16: 11.2 | BT16: 17.2 | BU16: 20.1 | BV16: 21.5 | BW16: 21.3 | BX16: 19.7 | BY16: 17.7 | BZ16: 12
C17: linear attenuation coef= | D17: =Sheet3!D10 -> 0.2032 | E17: cm-1 | F17: target difference between exposure and target exp= | K17: 0 | O17: =IF(M17<$K$17,G17," ") | P17: 1.1 | Q17: 1 | S17: 10 | T17: 1 | U17: 1 | V17: 1 | W17: 1.64 | X17: 1.94 | Y17: 2.21 | Z17: 2.76 | AA17: 3.18 | AB17: 4.49 | AD17: 1 | AE17: 1 | AF17: 1 | AG17: 2.2 | AH17: 2.73 | AI17: 3.23 | AJ17: 4.02 | AK17: 4.8 | AL17: 6.62 | AN17: 14.9 | AO17: 24.5 | AP17: 24.2 | AQ17: 22.7 | AR17: 21.4 | AS17: 18.7 | AT17: 16.7 | AU17: 14.3 | AV17: 9.7 | AX17: 50.5 | AY17: 88.4 | AZ17: 81.6 | BA17: 69.2 | BB17: 59 | BC17: 51.1 | BD17: 39.7 | BE17: 32 | BF17: 17.1 | BH17: 2.19 | BI17: 5.9 | BJ17: 9.07 | BK17: 11.1 | BL17: 12.7 | BM17: 12.6 | BN17: 12.4 | BO17: 11.3 | BP17: 8.95 | BR17: 3.92 | BS17: 13.9 | BT17: 22.5 | BU17: 26.9 | BV17: 29.3 | BW17: 29.1 | BX17: 26.6 | BY17: 23.6 | BZ17: 15.4
O18: =IF(M18<$K$17,G18," ") | P18: 1.2 | Q18: 1 | S18: 15 | T18: 1 | U18: 1 | V18: 1 | W18: 1.78 | X18: 2.17 | Y18: 2.54 | Z18: 3.33 | AA18: 3.93 | AB18: 6.18 | AD18: 1 | AE18: 1 | AF18: 1 | AG18: 2.53 | AH18: 3.3 | AI18: 3.99 | AJ18: 5.12 | AK18: 6.24 | AL18: 9.45 | AN18: 24.3 | AO18: 48 | AP18: 47.7 | AQ18: 44.2 | AR18: 41 | AS18: 34.2 | AT18: 30 | AU18: 24.3 | AV18: 15.1 | AX18: 93.8 | AY18: 199 | AZ18: 182 | BA18: 148 | BB18: 121 | BC18: 101 | BD18: 74.4 | BE18: 57 | BF18: 27.1 | BH18: 2.48 | BI18: 8.01 | BJ18: 13.6 | BK18: 17.9 | BL18: 21.5 | BM18: 21.5 | BN18: 21 | BO18: 18.5 | BP18: 13.9 | BR18: 4.91 | BS18: 21 | BT18: 37.6 | BU18: 47.1 | BV18: 53.2 | BW18: 53 | BX18: 47.5 | BY18: 40.6 | BZ18: 24.7
C19: MFP = | D19: =Sheet3!D14 -> 4.9212598 | F19: thickness | G19: cal.#MFP | H19: round#MDP | I19: build up factr | J19: adj B | K19: exposu | L19: diff | N19: thickness | O19: =IF(M19<$K$17,G19," ") | P19: 1.3 | Q19: 1 | S19: 20 | T19: 1 | U19: 1 | V19: 1 | W19: 1.89 | X19: 2.37 | Y19: 2.82 | Z19: 3.84 | AA19: 4.61 | AB19: 7.89 | AD19: 1 | AE19: 1 | AF19: 1 | AG19: 2.8 | AH19: 3.82 | AI19: 4.68 | AJ19: 6.12 | AK19: 7.58 | AL19: 12.3 | AN19: 35.8 | AO19: 82 | AP19: 81 | AQ19: 74.1 | AR19: 67.5 | AS19: 54.2 | AT19: 46.9 | AU19: 36.1 | AV19: 21 | AX19: 149 | AY19: 371 | AZ19: 333 | BA19: 262 | BB19: 205 | BC19: 168 | BD19: 118 | BE19: 86.6 | BF19: 38 | BH19: 2.74 | BI19: 10.1 | BJ19: 18.6 | BK19: 25.7 | BL19: 32.3 | BM19: 32.4 | BN19: 31.4 | BO19: 26.8 | BP19: 19.4 | BR19: 5.83 | BS19: 28.6 | BT19: 55.1 | BU19: 71.7 | BV19: 82.7 | BW19: 82.7 | BX19: 72.8 | BY19: 60.5 | BZ19: 34.9
F20: =J9+$H$15 -> 30.683701 | G20: =F20/$D$19 -> 6.2349281 | H20: =VLOOKUP(G20,$P$7:$Q$430,2,TRUE) -> 6 | I20: =VLOOKUP(H20,$S$8:$BZ$23,$D$25,FALSE) -> 25.7 | J20: =IF(G20<0.5,1,I20) -> 25.7 | K20: =J20*$D$13*EXP(-1*$D$17*F20) -> 12.591523 | L20: =K20-$D$15 -> 12.091523 | M20: =IF(L20<$K$17,F20," -- ") -> -- | N20: =MIN(M20:M430) -> 50.683701 | O20: =IF(M20<$K$17,G20," ") | P20: 1.4 | Q20: 1 | S20: 25 | T20: 1 | U20: 1 | V20: 1 | W20: 1.99 | X20: 2.56 | Y20: 3.07 | Z20: 4.3 | AA20: 5.23 | AB20: 9.62 | AD20: 1 | AE20: 1 | AF20: 1 | AG20: 3.04 | AH20: 4.31 | AI20: 5.34 | AJ20: 7.07 | AK20: 8.85 | AL20: 15.3 | AN20: 49.1 | AO20: 128 | AP20: 125 | AQ20: 113 | AR20: 101 | AS20: 78.7 | AT20: 67 | AU20: 49.4 | AV20: 27.2 | AX20: 217 | AY20: 615 | AZ20: 541 | BA20: 412 | BB20: 311 | BC20: 250 | BD20: 170 | BE20: 120 | BF20: 49.4 | BH20: 2.97 | BI20: 12.3 | BJ20: 23.9 | BK20: 34.7 | BL20: 44.9 | BM20: 45.2 | BN20: 43.5 | BO20: 35.8 | BP20: 25.4 | BR20: 6.71 | BS20: 36.5 | BT20: 74.6 | BU20: 100 | BV20: 117 | BW20: 118 | BX20: 102 | BY20: 82.6 | BZ20: 45.7
C21: first build up factor table column = | D21: =Sheet3!D12 -> 6 | F21: =F20+$H$15 -> 30.783701 | G21: =F21/$D$19 -> 6.2552481 | H21: =VLOOKUP(G21,$P$7:$Q$430,2,TRUE) -> 6 | I21: =VLOOKUP(H21,$S$8:$BZ$23,$D$25,FALSE) -> 25.7 | J21: =IF(G21<0.5,1,I21) -> 25.7 | K21: =J21*$D$13*EXP(-1*$D$17*F21) -> 12.338245 | L21: =K21-$D$15 -> 11.838245 | M21: =IF(L21<$K$17,F21," -- ") -> -- | O21: =IF(M21<$K$17,G21," ") | P21: 1.5 | Q21: 2 | S21: 30 | T21: 1 | U21: 1 | V21: 1 | W21: 2.08 | X21: 2.73 | Y21: 3.31 | Z21: 4.72 | AA21: 5.83 | AB21: 11.3 | AD21: 1 | AE21: 1 | AF21: 1 | AG21: 3.26 | AH21: 4.79 | AI21: 5.96 | AJ21: 7.97 | AK21: 10.1 | AL21: 18.2 | AN21: 64.3 | AO21: 189 | AP21: 181 | AQ21: 161 | AR21: 142 | AS21: 108 | AT21: 90.4 | AU21: 63.9 | AV21: 33.8 | AX21: 295 | AY21: 942 | AZ21: 810 | BA21: 600 | BB21: 437 | BC21: 347 | BD21: 229 | BE21: 157 | BF21: 61.3 | BH21: 3.18 | BI21: 14.5 | BJ21: 29.7 | BK21: 44.7 | BL21: 59.1 | BM21: 60 | BN21: 57.3 | BO21: 45.6 | BP21: 31.6 | BR21: 7.56 | BS21: 44.6 | BT21: 95.6 | BU21: 132 | BV21: 156 | BW21: 157 | BX21: 135 | BY21: 106 | BZ21: 57.1
F22: =F21+$H$15 -> 30.883701 | G22: =F22/$D$19 -> 6.2755681 | H22: =VLOOKUP(G22,$P$7:$Q$430,2,TRUE) -> 6 | I22: =VLOOKUP(H22,$S$8:$BZ$23,$D$25,FALSE) -> 25.7 | J22: =IF(G22<0.5,1,I22) -> 25.7 | K22: =J22*$D$13*EXP(-1*$D$17*F22) -> 12.090062 | L22: =K22-$D$15 -> 11.590062 | M22: =IF(L22<$K$17,F22," -- ") -> -- | O22: =IF(M22<$K$17,G22," ") | P22: 1.6 | Q22: 2 | S22: 35 | T22: 1 | U22: 1 | V22: 1 | W22: 2.16 | X22: 2.89 | Y22: 3.53 | Z22: 5.12 | AA22: 6.39 | AB22: 13.1 | AD22: 1 | AE22: 1 | AF22: 1 | AG22: 3.45 | AH22: 5.25 | AI22: 6.56 | AJ22: 8.83 | AK22: 11.2 | AL22: 21.2 | AN22: 81 | AO22: 264 | AP22: 249 | AQ22: 220 | AR22: 189 | AS22: 141 | AT22: 117 | AU22: 79.3 | AV22: 40.6 | AX22: 384 | AY22: 1360 | AZ22: 1140 | BA22: 826 | BB22: 582 | BC22: 457 | BD22: 294 | BE22: 196 | BF22: 73.5 | BH22: 3.38 | BI22: 16.7 | BJ22: 35.7 | BK22: 55.6 | BL22: 74.8 | BM22: 76.7 | BN22: 72.6 | BO22: 55.9 | BP22: 38.1 | BR22: 8.39 | BS22: 53 | BT22: 118 | BU22: 167 | BV22: 199 | BW22: 201 | BX22: 171 | BY22: 132 | BZ22: 68.9
C23: build up factor table additor= | D23: =Sheet2!K20 -> 30 | F23: =F22+$H$15 -> 30.983701 | G23: =F23/$D$19 -> 6.2958881 | H23: =VLOOKUP(G23,$P$7:$Q$430,2,TRUE) -> 6 | I23: =VLOOKUP(H23,$S$8:$BZ$23,$D$25,FALSE) -> 25.7 | J23: =IF(G23<0.5,1,I23) -> 25.7 | K23: =J23*$D$13*EXP(-1*$D$17*F23) -> 11.846871 | L23: =K23-$D$15 -> 11.346871 | M23: =IF(L23<$K$17,F23," -- ") -> -- | O23: =IF(M23<$K$17,G23," ") | P23: 1.7 | Q23: 2 | S23: 40 | T23: 1 | U23: 1 | V23: 1 | W23: 2.24 | X23: 3.05 | Y23: 3.74 | Z23: 5.49 | AA23: 6.93 | AB23: 14.8 | AD23: 1 | AE23: 1 | AF23: 1 | AG23: 3.63 | AH23: 5.71 | AI23: 7.15 | AJ23: 9.66 | AK23: 12.4 | AL23: 24.2 | AN23: 99.2 | AO23: 357 | AP23: 330 | AQ23: 288 | AR23: 242 | AS23: 177 | AT23: 146 | AU23: 95.6 | AV23: 47.5 | AX23: 492 | AY23: 1870 | AZ23: 1540 | BA23: 1090 | BB23: 745 | BC23: 579 | BD23: 365 | BE23: 237 | BF23: 85.9 | BH23: 3.58 | BI23: 19 | BJ23: 42 | BK23: 67.4 | BL23: 91.8 | BM23: 95.1 | BN23: 89.2 | BO23: 66.6 | BP23: 44.9 | BR23: 9.22 | BS23: 61.4 | BT23: 141 | BU23: 205 | BV23: 245 | BW23: 248 | BX23: 210 | BY23: 159 | BZ23: 80.9
F24: =F23+$H$15 -> 31.083701 | G24: =F24/$D$19 -> 6.3162081 | H24: =VLOOKUP(G24,$P$7:$Q$430,2,TRUE) -> 6 | I24: =VLOOKUP(H24,$S$8:$BZ$23,$D$25,FALSE) -> 25.7 | J24: =IF(G24<0.5,1,I24) -> 25.7 | K24: =J24*$D$13*EXP(-1*$D$17*F24) -> 11.608572 | L24: =K24-$D$15 -> 11.108572 | M24: =IF(L24<$K$17,F24," -- ") -> -- | O24: =IF(M24<$K$17,G24," ") | P24: 1.8 | Q24: 2
C25: build up factor search column= | D25: =D23+D21 -> 36 | F25: =F24+$H$15 -> 31.183701 | G25: =F25/$D$19 -> 6.3365281 | H25: =VLOOKUP(G25,$P$7:$Q$430,2,TRUE) -> 6 | I25: =VLOOKUP(H25,$S$8:$BZ$23,$D$25,FALSE) -> 25.7 | J25: =IF(G25<0.5,1,I25) -> 25.7 | K25: =J25*$D$13*EXP(-1*$D$17*F25) -> 11.375067 | L25: =K25-$D$15 -> 10.875067 | M25: =IF(L25<$K$17,F25," -- ") -> -- | O25: =IF(M25<$K$17,G25," ") | P25: 1.9 | Q25: 2
F26: =F25+$H$15 -> 31.283701 | G26: =F26/$D$19 -> 6.3568481 | H26: =VLOOKUP(G26,$P$7:$Q$430,2,TRUE) -> 6 | I26: =VLOOKUP(H26,$S$8:$BZ$23,$D$25,FALSE) -> 25.7 | J26: =IF(G26<0.5,1,I26) -> 25.7 | K26: =J26*$D$13*EXP(-1*$D$17*F26) -> 11.146258 | L26: =K26-$D$15 -> 10.646258 | M26: =IF(L26<$K$17,F26," -- ") -> -- | O26: =IF(M26<$K$17,G26," ") | P26: 2 | Q26: 2
F27: =F26+$H$15 -> 31.383701 | G27: =F27/$D$19 -> 6.3771681 | H27: =VLOOKUP(G27,$P$7:$Q$430,2,TRUE) -> 6 | I27: =VLOOKUP(H27,$S$8:$BZ$23,$D$25,FALSE) -> 25.7 | J27: =IF(G27<0.5,1,I27) -> 25.7 | K27: =J27*$D$13*EXP(-1*$D$17*F27) -> 10.922051 | L27: =K27-$D$15 -> 10.422051 | M27: =IF(L27<$K$17,F27," -- ") -> -- | O27: =IF(M27<$K$17,G27," ") | P27: 2.1 | Q27: 2
F28: =F27+$H$15 -> 31.483701 | G28: =F28/$D$19 -> 6.3974881 | H28: =VLOOKUP(G28,$P$7:$Q$430,2,TRUE) -> 6 | I28: =VLOOKUP(H28,$S$8:$BZ$23,$D$25,FALSE) -> 25.7 | J28: =IF(G28<0.5,1,I28) -> 25.7 | K28: =J28*$D$13*EXP(-1*$D$17*F28) -> 10.702355 | L28: =K28-$D$15 -> 10.202355 | M28: =IF(L28<$K$17,F28," -- ") -> -- | O28: =IF(M28<$K$17,G28," ") | P28: 2.2 | Q28: 2
F29: =F28+$H$15 -> 31.583701 | G29: =F29/$D$19 -> 6.4178081 | H29: =VLOOKUP(G29,$P$7:$Q$430,2,TRUE) -> 6 | I29: =VLOOKUP(H29,$S$8:$BZ$23,$D$25,FALSE) -> 25.7 | J29: =IF(G29<0.5,1,I29) -> 25.7 | K29: =J29*$D$13*EXP(-1*$D$17*F29) -> 10.487078 | L29: =K29-$D$15 -> 9.9870778 | M29: =IF(L29<$K$17,F29," -- ") -> -- | O29: =IF(M29<$K$17,G29," ") | P29: 2.3 | Q29: 2
F30: =F29+$H$15 -> 31.683701 | G30: =F30/$D$19 -> 6.4381281 | H30: =VLOOKUP(G30,$P$7:$Q$430,2,TRUE) -> 6 | I30: =VLOOKUP(H30,$S$8:$BZ$23,$D$25,FALSE) -> 25.7 | J30: =IF(G30<0.5,1,I30) -> 25.7 | K30: =J30*$D$13*EXP(-1*$D$17*F30) -> 10.276131 | L30: =K30-$D$15 -> 9.7761308 | M30: =IF(L30<$K$17,F30," -- ") -> -- | O30: =IF(M30<$K$17,G30," ") | P30: 2.4 | Q30: 2
F31: =F30+$H$15 -> 31.783701 | G31: =F31/$D$19 -> 6.4584481 | H31: =VLOOKUP(G31,$P$7:$Q$430,2,TRUE) -> 6 | I31: =VLOOKUP(H31,$S$8:$BZ$23,$D$25,FALSE) -> 25.7 | J31: =IF(G31<0.5,1,I31) -> 25.7 | K31: =J31*$D$13*EXP(-1*$D$17*F31) -> 10.069427 | L31: =K31-$D$15 -> 9.5694271 | M31: =IF(L31<$K$17,F31," -- ") -> -- | O31: =IF(M31<$K$17,G31," ") | P31: 2.5 | Q31: 3
F32: =F31+$H$15 -> 31.883701 | G32: =F32/$D$19 -> 6.4787681 | H32: =VLOOKUP(G32,$P$7:$Q$430,2,TRUE) -> 6 | I32: =VLOOKUP(H32,$S$8:$BZ$23,$D$25,FALSE) -> 25.7 | J32: =IF(G32<0.5,1,I32) -> 25.7 | K32: =J32*$D$13*EXP(-1*$D$17*F32) -> 9.8668812 | L32: =K32-$D$15 -> 9.3668812 | M32: =IF(L32<$K$17,F32," -- ") -> -- | O32: =IF(M32<$K$17,G32," ") | P32: 2.6 | Q32: 3
F33: =F32+$H$15 -> 31.983701 | G33: =F33/$D$19 -> 6.4990881 | H33: =VLOOKUP(G33,$P$7:$Q$430,2,TRUE) -> 6 | I33: =VLOOKUP(H33,$S$8:$BZ$23,$D$25,FALSE) -> 25.7 | J33: =IF(G33<0.5,1,I33) -> 25.7 | K33: =J33*$D$13*EXP(-1*$D$17*F33) -> 9.6684094 | L33: =K33-$D$15 -> 9.1684094 | M33: =IF(L33<$K$17,F33," -- ") -> -- | O33: =IF(M33<$K$17,G33," ") | P33: 2.7 | Q33: 3
F34: =F33+$H$15 -> 32.083701 | G34: =F34/$D$19 -> 6.5194081 | H34: =VLOOKUP(G34,$P$7:$Q$430,2,TRUE) -> 7 | I34: =VLOOKUP(H34,$S$8:$BZ$23,$D$25,FALSE) -> 32.7 | J34: =IF(G34<0.5,1,I34) -> 32.7 | K34: =J34*$D$13*EXP(-1*$D$17*F34) -> 12.054378 | L34: =K34-$D$15 -> 11.554378 | M34: =IF(L34<$K$17,F34," -- ") -> -- | O34: =IF(M34<$K$17,G34," ") | P34: 2.8 | Q34: 3
F35: =F34+$H$15 -> 32.183701 | G35: =F35/$D$19 -> 6.5397281 | H35: =VLOOKUP(G35,$P$7:$Q$430,2,TRUE) -> 7 | I35: =VLOOKUP(H35,$S$8:$BZ$23,$D$25,FALSE) -> 32.7 | J35: =IF(G35<0.5,1,I35) -> 32.7 | K35: =J35*$D$13*EXP(-1*$D$17*F35) -> 11.811905 | L35: =K35-$D$15 -> 11.311905 | M35: =IF(L35<$K$17,F35," -- ") -> -- | O35: =IF(M35<$K$17,G35," ") | P35: 2.9 | Q35: 3
F36: =F35+$H$15 -> 32.283701 | G36: =F36/$D$19 -> 6.5600481 | H36: =VLOOKUP(G36,$P$7:$Q$430,2,TRUE) -> 7 | I36: =VLOOKUP(H36,$S$8:$BZ$23,$D$25,FALSE) -> 32.7 | J36: =IF(G36<0.5,1,I36) -> 32.7 | K36: =J36*$D$13*EXP(-1*$D$17*F36) -> 11.574309 | L36: =K36-$D$15 -> 11.074309 | M36: =IF(L36<$K$17,F36," -- ") -> -- | O36: =IF(M36<$K$17,G36," ") | P36: 3 | Q36: 3
F37: =F36+$H$15 -> 32.383701 | G37: =F37/$D$19 -> 6.5803681 | H37: =VLOOKUP(G37,$P$7:$Q$430,2,TRUE) -> 7 | I37: =VLOOKUP(H37,$S$8:$BZ$23,$D$25,FALSE) -> 32.7 | J37: =IF(G37<0.5,1,I37) -> 32.7 | K37: =J37*$D$13*EXP(-1*$D$17*F37) -> 11.341492 | L37: =K37-$D$15 -> 10.841492 | M37: =IF(L37<$K$17,F37," -- ") -> -- | O37: =IF(M37<$K$17,G37," ") | P37: 3.1 | Q37: 3
... F430: =F429+$H$15 -> 71.683701 | G430: =F430/$D$19 -> 14.566128 | H430: =VLOOKUP(G430,$P$7:$Q$430,2,TRUE) -> 15 | I430: =VLOOKUP(H430,$S$8:$BZ$23,$D$25,FALSE) -> 121 | J430: =IF(G430<0.5,1,I430) -> 121 | K430: =J430*$D$13*EXP(-1*$D$17*F430) -> 0.014280267 | L430: =K430-$D$15 -> -0.48571973 | M430: =IF(L430<$K$17,F430," -- ") -> 71.683701 | O430: =IF(M430<$K$17,G430," ") | P430: 42.4 | Q430: 40
O431: =IF(M431<$K$17,G431," ")
O432: =IF(M432<$K$17,G432," ")
...

Sheet Sheet7
E1: Final Results
A2: radioisotope: | B2: =Sheet1!D3 -> Fluorine -18
D3: combined code = | F3: =Sheet2!H16 -> 2221 | I3: calculation type code= | K3: =Sheet2!K4 -> 20
A4: shielding material : | B4: =Sheet1!D5 -> concrete | I4: build up factor code = | K4: =Sheet2!K11 -> 1
A6: geometry: | B6: =Sheet1!D7 -> 4π | D6: 1111 | E6: =IF(Sheet5!$I$3=D6,Sheet5!$I$15," -- ") -> --
D7: 1112 | E7: =IF(Sheet5!$I$3=D7,Sheet5!$I$15," -- ") -> --
A8: calculation type: | B8: =Sheet1!D9 -> thickness of shielding required | D8: 1211 | E8: =IF(Sheet5!$I$3=D8,Sheet5!$I$15," -- ") -> --
D9: 1212 | E9: =IF(Sheet5!$I$3=D9,Sheet5!$I$15," -- ") -> --
A10: calculation with /without build up factor : | D10: 2111 | E10: =IF(Sheet5!$I$3=D10,Sheet5!$I$15," -- ") -> --
B11: =Sheet1!D12 -> with | D11: 2112 | E11: =IF(Sheet5!$I$3=D11,Sheet5!$I$15," -- ") -> -- | F11: final exposure W or W/O build up factor = | J11: =IF(K3=10,Sheet5!I15,"---") -> ---
D12: 2211 | E12: =IF(Sheet5!$I$3=D12,Sheet5!$I$15," -- ") -> --
D13: 2212 | E13: =IF(Sheet5!$I$3=D13,Sheet5!$I$15," -- ") -> -- | F13: final thickness W or W/O build up factor required = | K13: =IF(K3=20,Sheet6!L11,"---") -> 50.683701
D14: 3111 | E14: =IF(Sheet5!$I$3=D14,Sheet5!$I$15," -- ") -> --
D15: 3112 | E15: =IF(Sheet5!$I$3=D15,Sheet5!$I$15," -- ") -> -- | F15: final result -final exposure or final thickness W or W/O build up factor= | M15: =IF(K3=20,Sheet6!L11,Sheet5!I15) -> 50.683701
D16: 3211 | E16: =IF(Sheet5!$I$3=D16,Sheet5!$I$15," -- ") -> --
D17: 3212 | E17: =IF(Sheet5!$I$3=D17,Sheet5!$I$15," -- ") -> --
D19: 1121 | E19: =IF(Sheet6!$I$5=Sheet7!D19,Sheet6!$L$11,"----") -> ----
D20: 1122 | E20: =IF(Sheet6!$I$5=Sheet7!D20,Sheet6!$L$11,"----") -> ----
D21: 1221 | E21: =IF(Sheet6!$I$5=Sheet7!D21,Sheet6!$L$11,"----") -> ----
D22: 1222 | E22: =IF(Sheet6!$I$5=Sheet7!D22,Sheet6!$L$11,"----") -> ----
D23: 2121 | E23: =IF(Sheet6!$I$5=Sheet7!D23,Sheet6!$L$11,"----") -> ----
D24: 2122 | E24: =IF(Sheet6!$I$5=Sheet7!D24,Sheet6!$L$11,"----") -> ----
D25: 2221 | E25: =IF(Sheet6!$I$5=Sheet7!D25,Sheet6!$L$11,"----") -> 50.683701
D26: 2222 | E26: =IF(Sheet6!$I$5=Sheet7!D26,Sheet6!$L$11,"----") -> ----
D27: 3121 | E27: =IF(Sheet6!$I$5=Sheet7!D27,Sheet6!$L$11,"----") -> ----
D28: 3122 | E28: =IF(Sheet6!$I$5=Sheet7!D28,Sheet6!$L$11,"----") -> ----
D29: 3221 | E29: =IF(Sheet6!$I$5=Sheet7!D29,Sheet6!$L$11,"----") -> ----
D30: 3222 | E30: =IF(Sheet6!$I$5=Sheet7!D30,Sheet6!$L$11,"----") -> ----

Sheet Reference
A1: References:
A3: Oak Ridge National Laboratory publication 45 (ORNL / RSIC -45 /R1)
A5: National Institute of Standards and Technology (NIST) :
A6: physical reference data X-ray and gamma ray data table 3
A8: American Nuclear Society : Takeuchi K, Tanaka S-I, Nucl Sci Eng, 87 :4, 478-489
A9: Radiological Health Handbook, US Department of Health, pp 145-149

Sheet Equation 

Sheet Geometry
A1: Geometry :
A2: In radiation shielding, geometry describes the position of the detector relative to the radioactive source.
A3: 2 π geometry refers to situations where the shielding intercepts radiation emitted from only one side of the source (e.g., a wall barrier).
A4: 4 π geometry refers to situations where the shielding intercepts radiation emitted from all directions (e.g., a vial shield).

Sheet Build up factor
A1: Build up factor (B) :
A2: The basic shielding equation assumes that the scattered photons will not re-enter the field of the radiation detector and hence will not contribute to the radiation exposure measured
A3: In reality, many scattered photons do re-enter the field of the detector and contribute significantly to the exposure
A4: Build up factor is a unit-less factor that accounts for scattered photons re-entering the field
A5: This calculator applies build up factor when selected
A8: The value of build up factor depends on
A9: Density of shielding material – the higher the density , the larger the build up factor
A10: Photon energy – the higher the photon energy , the larger the build up factor
A11: Thickness of the shielding – the thicker the shielding, the larger the build up factor
A12: One would not know the build up factor value unless one already knows the thickness of the shielding . However, such thickness is unknow and the objective of the shielding equation is to determine the thickness required
A14: Determination of build up factor
A15: By experiment - by measuring the exposure from photons of different energies through shielding of different density at different thickness
A16: By simulation - it is possible to determine the build up factors by different simulation techniques such as Monte Carlo simulations, MCNP, etc

Sheet About Sidney Yu
A1: Sidney Yu, PhD, FRSC
A2: Sidney Yu is a semi-retired radiopharmacist with over 30 years of experience in nuclear medicine and radiopharmacy. He obtained his PhD from Purdue University, College of Pharmacy and Pharmaceutical Sciences, and also holds a certificate in Radiation Health Physics and Radiation Engineering from The Ohio State University.
A3: In 2025, He was elected a Fellow of the Royal Society of Chemistry (FRSC) , in recognition of his contributions to the chemical sciences and professional leadership.
A4: He began his career as a radiopharmacist and research scientist at the Singapore General Hospital, Department of Nuclear Medicine and PET, where he worked from 1995 to 2018. During this time, he established a centralised radiopharmacy service supporting multiple hospitals, led the establishment of the cyclotron facility and GMP approval process, and expanded radiopharmacy services to support Radioembolisation , Peptide Receptor Radionuclide Therapy, and other radioisotope therapies. His work covered all aspects of radiopharmacy operations, clinical service development, radiation safety, teaching, and research.
A5: Since 2018, Sidney has served as the Director of Radiopharmaceuticals with Singapore Advanced Medicine Imaging, where he oversees radiopharmacy operations and radiation safety for the facility. He is actively involved in radiation protection, shielding design, regulatory compliance, and exposure calculations
A7: Contact
A8: meditopes@yahoo.com
